BEGIN:VCALENDAR
VERSION:2.0
PRODID:-//Pahl&#039;s Market - ECPv6.15.14//NONSGML v1.0//EN
CALSCALE:GREGORIAN
METHOD:PUBLISH
X-ORIGINAL-URL:https://www.pahls.com
X-WR-CALDESC:Events for Pahl&#039;s Market
REFRESH-INTERVAL;VALUE=DURATION:PT1H
X-Robots-Tag:noindex
X-PUBLISHED-TTL:PT1H
BEGIN:VTIMEZONE
TZID:America/Chicago
BEGIN:DAYLIGHT
TZOFFSETFROM:-0600
TZOFFSETTO:-0500
TZNAME:CDT
DTSTART:20250309T080000
END:DAYLIGHT
BEGIN:STANDARD
TZOFFSETFROM:-0500
TZOFFSETTO:-0600
TZNAME:CST
DTSTART:20251102T070000
END:STANDARD
BEGIN:DAYLIGHT
TZOFFSETFROM:-0600
TZOFFSETTO:-0500
TZNAME:CDT
DTSTART:20260308T080000
END:DAYLIGHT
BEGIN:STANDARD
TZOFFSETFROM:-0500
TZOFFSETTO:-0600
TZNAME:CST
DTSTART:20261101T070000
END:STANDARD
BEGIN:DAYLIGHT
TZOFFSETFROM:-0600
TZOFFSETTO:-0500
TZNAME:CDT
DTSTART:20270314T080000
END:DAYLIGHT
BEGIN:STANDARD
TZOFFSETFROM:-0500
TZOFFSETTO:-0600
TZNAME:CST
DTSTART:20271107T070000
END:STANDARD
END:VTIMEZONE
BEGIN:VEVENT
DTSTART;TZID=America/Chicago:20260418T090000
DTEND;TZID=America/Chicago:20260418T200000
DTSTAMP:20260424T032001
CREATED:20240221T164235Z
LAST-MODIFIED:20260414T133019Z
UID:16034-1776502800-1776542400@www.pahls.com
SUMMARY:Pahl's Market Spring Open House
DESCRIPTION:New Traditions Start at Pahl’s Market\n\nRooted in Tradition\, Growing into the Future: Unveiling Our New Retail & Greenhouse Space\nSaturday\, April 20th 10am-3pm\nDetails to come…
URL:https://www.pahls.com/event/spring-into-pahls-grand-opening/
LOCATION:Pahl’s Market\, 6885 160th St W\, Apple Valley\, MN\, 55124\, United States
ATTACH;FMTTYPE=image/jpeg:https://www.pahls.com/wp-content/uploads/2024/03/Annual_Pansy-Delta-Pro-Color-Mix2.jpg
ORGANIZER;CN="Pahl's Market":MAILTO:market@pahls.com
END:VEVENT
END:VCALENDAR